BEGIN:VCALENDAR
VERSION:2.0
PRODID:-//wp-events-plugin.com//5.99912//EN
TZID:Europe/Berlin
X-WR-TIMEZONE:Europe/Berlin
BEGIN:VEVENT
UID:0-406@altshausen.albverein.eu
DTSTART;TZID=Europe/Berlin:20260802T000000
DTEND;TZID=Europe/Berlin:20260815T000000
DTSTAMP:20260406T190455Z
URL:https://altshausen.albverein.eu/events/zeltlager-fuchsfarm-fuer-jugend
 liche/
SUMMARY:Zeltlager Fuchsfarm für Kinder und Jugendliche
DESCRIPTION:Das Zeltlager Fuchsfarm bei Albstadt-Onstmettingen ist eine nat
 urverbundene Kinder- und Jugendfreizeit\, die seit über 60 Jahren von ein
 em erfahrenen und ausgebildeten Team durchgeführt wird. Sie bietet Kinder
 n die spaßigsten zwei Wochen des Sommers – und ihren Eltern eine wohlve
 rdiente Auszeit.\nTeilnehmende\n110 – 160 Personen von 8 – 14 Jahren\n
 \nPreis\nbis 30.04.  355 € / Mitglied 335 €\nab 01.05.   375 € / M
 itglied 355 €\n\nLeistungen\n• Unterkunft im Zelt\n• Verpflegung\n
 • Programm\, Eintritte\n\nAnmeldeschluss\n08.07.2026\n\nAuskunft\nJugend
 - und Familiengeschäftsstelle\nTel. 0711 22585-74\ninfo@schwaebische-albv
 ereinsjugend.de\n\nAnmeldung\nwww.albvereinsjugend.de
END:VEVENT
BEGIN:VTIMEZONE
TZID:Europe/Berlin
X-LIC-LOCATION:Europe/Berlin
BEGIN:DAYLIGHT
DTSTART:20260329T030000
TZOFFSETFROM:+0100
TZOFFSETTO:+0200
TZNAME:CEST
END:DAYLIGHT
END:VTIMEZONE
END:VCALENDAR