BEGIN:VCALENDAR
VERSION:2.0
PRODID:-//wp-events-plugin.com//5.99912//EN
TZID:Europe/Berlin
X-WR-TIMEZONE:Europe/Berlin
BEGIN:VEVENT
UID:0-408@altshausen.albverein.eu
DTSTART;TZID=Europe/Berlin:20260524T000000
DTEND;TZID=Europe/Berlin:20260531T000000
DTSTAMP:20260330T192756Z
URL:https://altshausen.albverein.eu/events/pfingstzeltlager-fuer-jugendlic
 he/
SUMMARY:Pfingstzeltlager für Jugendliche
DESCRIPTION:Natur erleben\, Spaß haben\, neue Leute kennenlernen – die S
 chwäbische Albjugend lädt vom 24. bis 31. Mai Jugendliche im Alter zwisc
 hen 14 und 17 Jahren zu einem einwöchigen Pfingst-Zeltlager nach Böbling
 en und Umgebung ein. Es handelt sich um ein neues Freizeitformat der Albve
 reinsjugend mit viel Freiraum für eigene Ideen\, Gemeinschaft und ohne st
 ändige digitale Erreichbarkeit. Geleitet wird das Zeltlager von erfahrene
 n Betreuerinnen und Betreuern.\n\n\nAuf dem Programm stehen ein bunter Mix
  an Wandertouren\, Outdoorabenteuern und der Möglichkeit\, sich kreativ a
 uszutoben. Am Lagerfeuer sitzen und feiern darf natürlich auch nicht fehl
 en.\n\nDie Pfingst-Freizeit kostet inklusive Übernachtung\, Verpflegung u
 nd Programm 240 Euro für Albvereinsmitglieder\, 260 Euro für Nicht-Mitgl
 ieder. Anmeldeschluss ist der 28. April.\n\nhttp://jugend.albverein.net/..
 ./jetzt-anmelden-zum-pfingst-zeltlager\n\n\n&nbsp\;
END:VEVENT
BEGIN:VTIMEZONE
TZID:Europe/Berlin
X-LIC-LOCATION:Europe/Berlin
BEGIN:DAYLIGHT
DTSTART:20260329T030000
TZOFFSETFROM:+0100
TZOFFSETTO:+0200
TZNAME:CEST
END:DAYLIGHT
END:VTIMEZONE
END:VCALENDAR